BEGIN:VCALENDAR
VERSION:2.0
PRODID:-//RayAllwood - ECPv6.15.20//NONSGML v1.0//EN
CALSCALE:GREGORIAN
METHOD:PUBLISH
X-WR-CALNAME:RayAllwood
X-ORIGINAL-URL:https://rayallwood.co.uk
X-WR-CALDESC:Events for RayAllwood
REFRESH-INTERVAL;VALUE=DURATION:PT1H
X-Robots-Tag:noindex
X-PUBLISHED-TTL:PT1H
BEGIN:VTIMEZONE
TZID:UTC
BEGIN:STANDARD
TZOFFSETFROM:+0000
TZOFFSETTO:+0000
TZNAME:UTC
DTSTART:20220101T000000
END:STANDARD
END:VTIMEZONE
BEGIN:VEVENT
DTSTART;VALUE=DATE:20231001
DTEND;VALUE=DATE:20231007
DTSTAMP:20260422T132804
CREATED:20230830T152432Z
LAST-MODIFIED:20230830T154712Z
UID:592-1696118400-1696636799@rayallwood.co.uk
SUMMARY:Intrepid Travel - Classic Walks of Scotland
DESCRIPTION:Soak up the scenery on Scotland’s best walks\nSample some of Scotland’s best walks like the West Highland Way and the Great Glen Way and conquer Ben Nevis – the highest peak in Scotland and the entire United Kingdom – with two expert guides by your side. Fort William\, a charming town located on the shores of Loch Linnhe\, is famous for being the gateway to Ben Nevis and will be your home away from home on this trip which takes you through an ever changing landscape that is famous for its Scottish culture\, dramatic landscapes\, and breathtaking natural scenery. Add a charming English town and atmospheric pubs to enjoy at the end of each day and this walking trip has it all.
URL:https://rayallwood.co.uk/event/intrepid-travel-classic-walks-of-scotland/
END:VEVENT
BEGIN:VEVENT
DTSTART;VALUE=DATE:20230917
DTEND;VALUE=DATE:20230928
DTSTAMP:20260422T132804
CREATED:20230830T150021Z
LAST-MODIFIED:20230830T150021Z
UID:587-1694908800-1695859199@rayallwood.co.uk
SUMMARY:National Parks of the UK
DESCRIPTION:Hike in the best scenery to be found in Scotland and England on this unique tour of 5 National Parks. \nIn Scotland\, we will hike in the wild Highlands in the Cairngorms and then Loch Lomond and the Trossachs. We then head to England to explore Northumberland\, the charming and rugged Yorkshire Dales and the Lake District.
URL:https://rayallwood.co.uk/event/national-parks-of-the-uk/
END:VEVENT
BEGIN:VEVENT
DTSTART;VALUE=DATE:20230831
DTEND;VALUE=DATE:20230912
DTSTAMP:20260422T132804
CREATED:20230830T154757Z
LAST-MODIFIED:20230830T154757Z
UID:598-1693440000-1694476799@rayallwood.co.uk
SUMMARY:Unavailable
DESCRIPTION:
URL:https://rayallwood.co.uk/event/unavailable/
END:VEVENT
END:VCALENDAR